BEGIN:VCALENDAR
VERSION:2.0
PRODID:SchoolNow
CALSCALE:GREGORIAN
BEGIN:VEVENT
UID:ae83a7a4-3b92-11ee-acf1-0a58a9feac02
DTSTAMP:20230817T192025Z
SUMMARY:School Committee Elementary Sub Committee Meeting - REMOTE MEETING 
 ONLINE
URL;VALUE=URI:https://www.norwood.k12.ma.us/sc/calendar/4575965/school-comm
 ittee-budget-sub-committee-meeting-remote-meeting-online-clone
DTSTART:20230824T140000Z
DTEND:20230824T150000Z
END:VEVENT
END:VCALENDAR
