BEGIN:VCALENDAR
VERSION:2.0
PRODID:SchoolNow
CALSCALE:GREGORIAN
BEGIN:VEVENT
UID:3268cd00-401c-11ee-b534-0a58a9feac02
DTSTAMP:20230830T133854Z
SUMMARY:School Committee Policy Sub Committee Meeting - CANCELLED
URL;VALUE=URI:https://www.norwood.k12.ma.us/sc/calendar/4603111/school-comm
 ittee-policy-sub-committee-meeting-remote-meeting-online
DTSTART:20230829T150000Z
DTEND:20230829T163000Z
END:VEVENT
END:VCALENDAR
