BEGIN:VCALENDAR
VERSION:2.0
PRODID:SchoolNow
CALSCALE:GREGORIAN
BEGIN:VEVENT
UID:01d85f5c-467a-11ee-9f11-0a58a9feac02
DTSTAMP:20230829T144032Z
SUMMARY:School Committee Executive Session Meeting - REMOTE MEETING ONLINE
URL;VALUE=URI:https://www.norwood.k12.ma.us/sc/calendar/4647822/school-comm
 ittee-executive-session-meeting-remote-meeting-online
DTSTART:20230831T223000Z
DTEND:20230901T000000Z
END:VEVENT
END:VCALENDAR
