BEGIN:VCALENDAR
VERSION:2.0
PRODID:SchoolNow
CALSCALE:GREGORIAN
BEGIN:VEVENT
UID:8cb378f0-4693-11ee-85a1-0e84a383af55
DTSTAMP:20230829T174322Z
SUMMARY:School Committee Budget Sub Committee - REMOTE MEETING ONLINE
URL;VALUE=URI:https://www.norwood.k12.ma.us/sc/calendar/4648213/school-comm
 ittee-budget-sub-committee-remote-meeting-online
DTSTART:20230907T163000Z
DTEND:20230907T183000Z
END:VEVENT
END:VCALENDAR
