BEGIN:VCALENDAR
VERSION:2.0
PRODID:SchoolNow
CALSCALE:GREGORIAN
BEGIN:VEVENT
UID:9f1a0a86-4693-11ee-af32-0a58a9feac02
DTSTAMP:20230829T174353Z
SUMMARY:School Committee Budget Sub Committee - REMOTE MEETING ONLINE
URL;VALUE=URI:https://www.norwood.k12.ma.us/sc/calendar/4648215/school-comm
 ittee-budget-sub-committee-remote-meeting-online-clone
DTSTART:20230921T163000Z
DTEND:20230921T183000Z
END:VEVENT
END:VCALENDAR
