BEGIN:VCALENDAR
VERSION:2.0
PRODID:SchoolNow
CALSCALE:GREGORIAN
BEGIN:VEVENT
UID:aa94d10c-4693-11ee-8aed-0a58a9feac02
DTSTAMP:20231002T180700Z
SUMMARY:School Committee Budget Sub Committee - REMOTE MEETING ONLINE
URL;VALUE=URI:https://www.norwood.k12.ma.us/sc/calendar/4648217/school-comm
 ittee-budget-sub-committee-remote-meeting-online-clone
DTSTART:20231005T170000Z
DTEND:20231005T190000Z
END:VEVENT
END:VCALENDAR
