BEGIN:VCALENDAR
VERSION:2.0
PRODID:SchoolNow
CALSCALE:GREGORIAN
BEGIN:VEVENT
UID:d8d7edb0-4693-11ee-906f-0a58a9feac02
DTSTAMP:20230829T174530Z
SUMMARY:School Committee Budget Sub Committee - REMOTE MEETING ONLINE
URL;VALUE=URI:https://www.norwood.k12.ma.us/sc/calendar/4648219/school-comm
 ittee-budget-sub-committee-remote-meeting-online-clone-clone
DTSTART:20231019T163000Z
DTEND:20231019T183000Z
END:VEVENT
END:VCALENDAR
