BEGIN:VCALENDAR
VERSION:2.0
PRODID:SchoolNow
CALSCALE:GREGORIAN
BEGIN:VEVENT
UID:e25f0e9a-4693-11ee-a4af-0a58a9feac02
DTSTAMP:20231031T180314Z
SUMMARY:School Committee Budget Sub Committee - REMOTE MEETING ONLINE
URL;VALUE=URI:https://www.norwood.k12.ma.us/sc/calendar/4648221/school-comm
 ittee-budget-sub-committee-remote-meeting-online-clone-clone-clone
DTSTART:20231102T153000Z
DTEND:20231102T173000Z
END:VEVENT
END:VCALENDAR
