BEGIN:VCALENDAR
VERSION:2.0
PRODID:SchoolNow
CALSCALE:GREGORIAN
BEGIN:VEVENT
UID:ecaeab80-4693-11ee-8fa5-0ef3c1fcafab
DTSTAMP:20231012T150034Z
SUMMARY:School Committee Budget Sub Committee - REMOTE MEETING ONLINE
URL;VALUE=URI:https://www.norwood.k12.ma.us/sc/calendar/4648223/school-comm
 ittee-budget-sub-committee-remote-meeting-online-clone-clone-clone-clone
DTSTART:20231116T150000Z
DTEND:20231116T170000Z
END:VEVENT
END:VCALENDAR
