BEGIN:VCALENDAR
VERSION:2.0
PRODID:SchoolNow
CALSCALE:GREGORIAN
BEGIN:VEVENT
UID:f6e81640-4693-11ee-8e91-02035be1c3d9
DTSTAMP:20230829T174621Z
SUMMARY:School Committee Budget Sub Committee - REMOTE MEETING ONLINE
URL;VALUE=URI:https://www.norwood.k12.ma.us/sc/calendar/4648225/school-comm
 ittee-budget-sub-committee-remote-meeting-online-clone-clone-clone-clone-c
 lone
DTSTART:20231130T173000Z
DTEND:20231130T193000Z
END:VEVENT
END:VCALENDAR
