BEGIN:VCALENDAR
VERSION:2.0
PRODID:SchoolNow
CALSCALE:GREGORIAN
BEGIN:VEVENT
UID:01d19c52-4694-11ee-acfb-0e3405aa8b0b
DTSTAMP:20231208T153735Z
SUMMARY:School Committee Budget Sub Committee - REMOTE MEETING ONLINE
URL;VALUE=URI:https://www.norwood.k12.ma.us/sc/calendar/4648227/school-comm
 ittee-budget-sub-committee-remote-meeting-online-clone-clone-clone-clone-c
 lone-clone
DTSTART:20231215T180000Z
DTEND:20231215T200000Z
END:VEVENT
END:VCALENDAR
