BEGIN:VCALENDAR
VERSION:2.0
PRODID:SchoolNow
CALSCALE:GREGORIAN
BEGIN:VEVENT
UID:0cb47112-4694-11ee-84c4-0a58a9feac02
DTSTAMP:20231222T145521Z
SUMMARY:School Committee Budget Sub Committee - REMOTE MEETING ONLINE
URL;VALUE=URI:https://www.norwood.k12.ma.us/sc/calendar/4648229/school-comm
 ittee-budget-sub-committee-remote-meeting-online-clone-clone-clone-clone-c
 lone-clone-clone
DTSTART:20240104T173000Z
DTEND:20240104T193000Z
END:VEVENT
END:VCALENDAR
