BEGIN:VCALENDAR
VERSION:2.0
PRODID:SchoolNow
CALSCALE:GREGORIAN
BEGIN:VEVENT
UID:43b0a42e-4694-11ee-8bfe-02be44d9d3ad
DTSTAMP:20230829T174829Z
SUMMARY:School Committee Budget Sub Committee - REMOTE MEETING ONLINE
URL;VALUE=URI:https://www.norwood.k12.ma.us/sc/calendar/4648239/school-comm
 ittee-budget-sub-committee-remote-meeting-online-clone-clone-clone-clone-c
 lone-clone-clone-clone-clone-clone-clone-clone
DTSTART:20240314T163000Z
DTEND:20240314T183000Z
END:VEVENT
END:VCALENDAR
