BEGIN:VCALENDAR
VERSION:2.0
PRODID:SchoolNow
CALSCALE:GREGORIAN
BEGIN:VEVENT
UID:5a1f0034-4694-11ee-96b7-029c519d0b5b
DTSTAMP:20230829T174907Z
SUMMARY:School Committee Budget Sub Committee - REMOTE MEETING ONLINE
URL;VALUE=URI:https://www.norwood.k12.ma.us/sc/calendar/4648243/school-comm
 ittee-budget-sub-committee-remote-meeting-online-clone-clone-clone-clone-c
 lone-clone-clone-clone-clone-clone-clone-clone-clone-clone
DTSTART:20240404T163000Z
DTEND:20240404T183000Z
END:VEVENT
END:VCALENDAR
