BEGIN:VCALENDAR
VERSION:2.0
PRODID:SchoolNow
CALSCALE:GREGORIAN
BEGIN:VEVENT
UID:bdf35c54-4694-11ee-9a0b-0ab250d350db
DTSTAMP:20230829T175155Z
SUMMARY:School Committee Policy Sub Committee - REMOTE MEETING ONLINE
URL;VALUE=URI:https://www.norwood.k12.ma.us/sc/calendar/4648419/school-comm
 ittee-policy-sub-committee-remote-meeting-online-clone
DTSTART:20231003T150000Z
DTEND:20231003T163000Z
END:VEVENT
END:VCALENDAR
