BEGIN:VCALENDAR
VERSION:2.0
PRODID:SchoolNow
CALSCALE:GREGORIAN
BEGIN:VEVENT
UID:c97eee94-4694-11ee-834b-02be44d9d3ad
DTSTAMP:20230829T175214Z
SUMMARY:School Committee Policy Sub Committee - REMOTE MEETING ONLINE
URL;VALUE=URI:https://www.norwood.k12.ma.us/sc/calendar/4648422/school-comm
 ittee-policy-sub-committee-remote-meeting-online-clone-clone
DTSTART:20231017T150000Z
DTEND:20231017T163000Z
END:VEVENT
END:VCALENDAR
