BEGIN:VCALENDAR
VERSION:2.0
PRODID:SchoolNow
CALSCALE:GREGORIAN
BEGIN:VEVENT
UID:d44e7308-4694-11ee-9df6-0a0d4ee2c919
DTSTAMP:20230829T175232Z
SUMMARY:School Committee Policy Sub Committee - REMOTE MEETING ONLINE
URL;VALUE=URI:https://www.norwood.k12.ma.us/sc/calendar/4648424/school-comm
 ittee-policy-sub-committee-remote-meeting-online-clone-clone-clone
DTSTART:20231031T150000Z
DTEND:20231031T163000Z
END:VEVENT
END:VCALENDAR
