BEGIN:VCALENDAR
VERSION:2.0
PRODID:SchoolNow
CALSCALE:GREGORIAN
BEGIN:VEVENT
UID:0beb2c52-4695-11ee-90ec-0a58a9feac02
DTSTAMP:20230829T175405Z
SUMMARY:School Committee Policy Sub Committee - REMOTE MEETING ONLINE
URL;VALUE=URI:https://www.norwood.k12.ma.us/sc/calendar/4648426/school-comm
 ittee-policy-sub-committee-remote-meeting-online-clone-clone-clone-clone
DTSTART:20231114T160000Z
DTEND:20231114T173000Z
END:VEVENT
END:VCALENDAR
