BEGIN:VCALENDAR
VERSION:2.0
PRODID:SchoolNow
CALSCALE:GREGORIAN
BEGIN:VEVENT
UID:156a2594-4695-11ee-8dd1-0a58a9feac02
DTSTAMP:20231128T134414Z
SUMMARY:CANCELLED - School Committee Policy Sub Committee
URL;VALUE=URI:https://www.norwood.k12.ma.us/sc/calendar/4648428/school-comm
 ittee-policy-sub-committee-remote-meeting-online-clone-clone-clone-clone-c
 lone
DTSTART:20231128T160000Z
DTEND:20231128T173000Z
END:VEVENT
END:VCALENDAR
