BEGIN:VCALENDAR
VERSION:2.0
PRODID:SchoolNow
CALSCALE:GREGORIAN
BEGIN:VEVENT
UID:28c4a0ec-4695-11ee-bd45-02be44d9d3ad
DTSTAMP:20230829T175454Z
SUMMARY:School Committee Policy Sub Committee - REMOTE MEETING ONLINE
URL;VALUE=URI:https://www.norwood.k12.ma.us/sc/calendar/4648432/school-comm
 ittee-policy-sub-committee-remote-meeting-online-clone-clone-clone-clone-c
 lone-clone-clone
DTSTART:20240109T160000Z
DTEND:20240109T173000Z
END:VEVENT
END:VCALENDAR
