BEGIN:VCALENDAR
VERSION:2.0
PRODID:SchoolNow
CALSCALE:GREGORIAN
BEGIN:VEVENT
UID:3ffe9df8-4695-11ee-acf1-0a58a9feac02
DTSTAMP:20230829T175533Z
SUMMARY:School Committee Policy Sub Committee - REMOTE MEETING ONLINE
URL;VALUE=URI:https://www.norwood.k12.ma.us/sc/calendar/4648592/school-comm
 ittee-policy-sub-committee-remote-meeting-online-clone-clone-clone-clone-c
 lone-clone-clone-clone-clone
DTSTART:20240206T160000Z
DTEND:20240206T173000Z
END:VEVENT
END:VCALENDAR
