BEGIN:VCALENDAR
VERSION:2.0
PRODID:SchoolNow
CALSCALE:GREGORIAN
BEGIN:VEVENT
UID:55d0c1f6-4695-11ee-8c08-02cb68def28f
DTSTAMP:20240318T185522Z
SUMMARY:CANCELLED-School Committee Policy Sub Committee - REMOTE MEETING ON
 LINE
URL;VALUE=URI:https://www.norwood.k12.ma.us/sc/calendar/4648624/school-comm
 ittee-policy-sub-committee-remote-meeting-online-clone-clone-clone-clone-c
 lone-clone-clone-clone-clone-clone-clone
DTSTART:20240319T150000Z
DTEND:20240319T163000Z
END:VEVENT
END:VCALENDAR
