BEGIN:VCALENDAR
VERSION:2.0
PRODID:SchoolNow
CALSCALE:GREGORIAN
BEGIN:VEVENT
UID:79c4cd78-4695-11ee-8781-0e84a383af55
DTSTAMP:20240513T155922Z
SUMMARY:CANCELLED-School Committee Policy Sub Committee - REMOTE MEETING ON
 LINE
URL;VALUE=URI:https://www.norwood.k12.ma.us/sc/calendar/4649790/school-comm
 ittee-policy-sub-committee-remote-meeting-online-clone-clone-clone-clone-c
 lone-clone-clone-clone-clone-clone-clone-clone-clone-clone
DTSTART:20240514T150000Z
DTEND:20240514T163000Z
END:VEVENT
END:VCALENDAR
