BEGIN:VCALENDAR
VERSION:2.0
PRODID:SchoolNow
CALSCALE:GREGORIAN
BEGIN:VEVENT
UID:333d2e3e-4e3f-11ee-a697-0ec3d8880c3f
DTSTAMP:20230908T115944Z
SUMMARY:School Committee Budget Sub Committee - REMOTE MEETING ONLINE
URL;VALUE=URI:https://www.norwood.k12.ma.us/sc/calendar/4700185/school-comm
 ittee-budget-sub-committee-remote-meeting-online-clone-clone
DTSTART:20230914T160000Z
DTEND:20230914T170000Z
END:VEVENT
END:VCALENDAR
