BEGIN:VCALENDAR
VERSION:2.0
PRODID:SchoolNow
CALSCALE:GREGORIAN
BEGIN:VEVENT
UID:80a18d86-525f-11ee-bf72-0a58a9feac02
DTSTAMP:20230915T130826Z
SUMMARY:Middle School Naming Public Forum - IN PERSON - NHS Auditorium
URL;VALUE=URI:https://www.norwood.k12.ma.us/sc/calendar/4731623/middle-scho
 ol-public-forum-in-person-nhs-auditorium
DTSTART:20230926T230000Z
DTEND:20230927T003000Z
END:VEVENT
END:VCALENDAR
