BEGIN:VCALENDAR
VERSION:2.0
PRODID:SchoolNow
CALSCALE:GREGORIAN
BEGIN:VEVENT
UID:9950b1b6-53c9-11ee-b184-0ea8776c1f05
DTSTAMP:20230915T131302Z
SUMMARY:School Committee Executive Session - Safety Plan
URL;VALUE=URI:https://www.norwood.k12.ma.us/sc/calendar/4741416/school-comm
 ittee-executive-session-safety-plan
DTSTART:20231030T193000Z
DTEND:20231030T203000Z
END:VEVENT
END:VCALENDAR
