BEGIN:VCALENDAR
VERSION:2.0
PRODID:SchoolNow
CALSCALE:GREGORIAN
BEGIN:VEVENT
UID:8664e6e2-53cb-11ee-a591-0ad554c62dc1
DTSTAMP:20230915T132649Z
SUMMARY:School Committee Meeting - REMOTE MEETING ONLINE
URL;VALUE=URI:https://www.norwood.k12.ma.us/sc/calendar/4741417/school-comm
 ittee-meeting-remote-meeting-online
DTSTART:20230921T000000Z
DTEND:20230921T010000Z
END:VEVENT
END:VCALENDAR
