BEGIN:VCALENDAR
VERSION:2.0
PRODID:SchoolNow
CALSCALE:GREGORIAN
BEGIN:VEVENT
UID:88bf5512-58b2-11ee-a629-023a4f903f9f
DTSTAMP:20230929T170042Z
SUMMARY:School Committee - MASC Workshop - Superintendent Search Process - 
 REMOTE MEETING ONLINE
URL;VALUE=URI:https://www.norwood.k12.ma.us/sc/calendar/4774472/school-comm
 ittee-masc-workshop-superintendent-search-process
DTSTART:20231005T223000Z
DTEND:20231005T233000Z
END:VEVENT
END:VCALENDAR
