BEGIN:VCALENDAR
VERSION:2.0
PRODID:SchoolNow
CALSCALE:GREGORIAN
BEGIN:VEVENT
UID:bc00a7f8-6214-11ee-8db5-0a58a9feac02
DTSTAMP:20231003T174608Z
SUMMARY:School Committee Executive Session - REMOTE MEETING ONLINE
URL;VALUE=URI:https://www.norwood.k12.ma.us/sc/calendar/4826263/school-comm
 ittee-executive-session-remote-meeting-online
DTSTART:20231006T003000Z
DTEND:20231006T013000Z
END:VEVENT
END:VCALENDAR
