BEGIN:VCALENDAR
VERSION:2.0
PRODID:SchoolNow
CALSCALE:GREGORIAN
BEGIN:VEVENT
UID:e6179776-644a-11ee-a632-0a58a9feac02
DTSTAMP:20231006T131854Z
SUMMARY:School Committee - Student Advisory Committee - In Person - Norwood
  High School
URL;VALUE=URI:https://www.norwood.k12.ma.us/sc/calendar/4837373/school-comm
 ittee-student-advisory-committee-in-person-norwood-high-school
DTSTART:20231012T142200Z
DTEND:20231012T152200Z
END:VEVENT
END:VCALENDAR
