BEGIN:VCALENDAR
VERSION:2.0
PRODID:SchoolNow
CALSCALE:GREGORIAN
BEGIN:VEVENT
UID:40de95fc-6959-11ee-aeca-0a1c19b8d8a7
DTSTAMP:20231012T234524Z
SUMMARY:School Committee Emergency Executive Session - Remote Meeting Onlin
 e
URL;VALUE=URI:https://www.norwood.k12.ma.us/sc/calendar/4860051/school-comm
 ittee-executive-session-safety-plan-clone
DTSTART:20231017T004500Z
DTEND:20231017T014500Z
END:VEVENT
END:VCALENDAR
