BEGIN:VCALENDAR
VERSION:2.0
PRODID:SchoolNow
CALSCALE:GREGORIAN
BEGIN:VEVENT
UID:ca73104a-6c33-11ee-b0e2-0a58a9feac02
DTSTAMP:20231016T145339Z
SUMMARY:School Committee Budget Workshop
URL;VALUE=URI:https://www.norwood.k12.ma.us/sc/calendar/4870557/school-comm
 ittee-budget-workshop
DTSTART:20240228T230000Z
DTEND:20240229T010000Z
END:VEVENT
END:VCALENDAR
