BEGIN:VCALENDAR
VERSION:2.0
PRODID:SchoolNow
CALSCALE:GREGORIAN
BEGIN:VEVENT
UID:4b8748f4-6d15-11ee-afd6-0a58a9feac02
DTSTAMP:20231017T174752Z
SUMMARY:School Committee Policy Sub Committee Meeting - REMOTE MEETING ONLI
 NE
URL;VALUE=URI:https://www.norwood.k12.ma.us/sc/calendar/4875084/school-comm
 ittee-policy-sub-committee-meeting-remote-meeting-online
DTSTART:20231023T124500Z
DTEND:20231023T134500Z
END:VEVENT
END:VCALENDAR
