BEGIN:VCALENDAR
VERSION:2.0
PRODID:SchoolNow
CALSCALE:GREGORIAN
BEGIN:VEVENT
UID:3474e61c-742c-11ee-85af-0a58a9feac02
DTSTAMP:20231026T181930Z
SUMMARY:School Committee Executive Session: Negotiations Strategy - Savage 
 Center
URL;VALUE=URI:https://www.norwood.k12.ma.us/sc/calendar/4903235/school-comm
 ittee-executive-session-negotiations-strategy-savage-center
DTSTART:20231102T190000Z
DTEND:20231102T210000Z
END:VEVENT
END:VCALENDAR
