BEGIN:VCALENDAR
VERSION:2.0
PRODID:SchoolNow
CALSCALE:GREGORIAN
BEGIN:VEVENT
UID:45d9282c-7437-11ee-8d7d-0a58a9feac02
DTSTAMP:20231026T193843Z
SUMMARY:School Committee Executive Session: Negotiations Strategy and Unit 
 A: Contract Negotiations - Savage Center
URL;VALUE=URI:https://www.norwood.k12.ma.us/sc/calendar/4903240/school-comm
 ittee-executive-session-negotiations-strategy-and-unit-a-contract-negotiat
 ions-savage-center
DTSTART:20231026T190000Z
DTEND:20231026T210000Z
END:VEVENT
END:VCALENDAR
