BEGIN:VCALENDAR
VERSION:2.0
PRODID:SchoolNow
CALSCALE:GREGORIAN
BEGIN:VEVENT
UID:240881a6-7726-11ee-9e12-02e6029ddc69
DTSTAMP:20231030T131339Z
SUMMARY:School Committee Executive Session: Union A Negotiations
URL;VALUE=URI:https://www.norwood.k12.ma.us/sc/calendar/4911333/school-comm
 ittee-executive-session-union-a-negotiations
DTSTART:20231127T210000Z
DTEND:20231127T220000Z
END:VEVENT
END:VCALENDAR
