BEGIN:VCALENDAR
VERSION:2.0
PRODID:SchoolNow
CALSCALE:GREGORIAN
BEGIN:VEVENT
UID:bed29226-7726-11ee-aff7-0a7d7e6812e7
DTSTAMP:20231030T131758Z
SUMMARY:School Committee Executive Session: Negotiations Strategy - Savage 
 Center
URL;VALUE=URI:https://www.norwood.k12.ma.us/sc/calendar/4911337/school-comm
 ittee-executive-session-negotiations-strategy-savage-center-clone
DTSTART:20231116T203000Z
DTEND:20231116T223000Z
END:VEVENT
END:VCALENDAR
