BEGIN:VCALENDAR
VERSION:2.0
PRODID:SchoolNow
CALSCALE:GREGORIAN
BEGIN:VEVENT
UID:b7b9c5aa-7cb1-11ee-8ae7-0244603328f9
DTSTAMP:20231106T143522Z
SUMMARY:School Committee Meeting - REMOTE MEETING ONLINE
URL;VALUE=URI:https://www.norwood.k12.ma.us/sc/calendar/4930402/school-comm
 ittee-meeting-remote-meeting-online
DTSTART:20231109T010000Z
DTEND:20231109T020000Z
END:VEVENT
END:VCALENDAR
