BEGIN:VCALENDAR
VERSION:2.0
PRODID:SchoolNow
CALSCALE:GREGORIAN
BEGIN:VEVENT
UID:49327b06-7f39-11ee-85f4-0a58a9feac02
DTSTAMP:20231109T195051Z
SUMMARY:School Committee Superintendent Search Sub Committee - REMOTE MEETI
 NG ONLINE
URL;VALUE=URI:https://www.norwood.k12.ma.us/sc/calendar/4937629/school-comm
 ittee-superintendent-search-sub-committee-remote-meeting-online-clone
DTSTART:20231115T203000Z
DTEND:20231115T213000Z
END:VEVENT
END:VCALENDAR
