BEGIN:VCALENDAR
VERSION:2.0
PRODID:SchoolNow
CALSCALE:GREGORIAN
BEGIN:VEVENT
UID:be54b2b0-8483-11ee-b8a7-0a58a9feac02
DTSTAMP:20231120T132022Z
SUMMARY:School Committee Meeting - Hybrid Meeting - See Schedule page for d
 etails
URL;VALUE=URI:https://www.norwood.k12.ma.us/sc/calendar/4951262/school-comm
 ittee-meeting-remote-meeting-online
DTSTART:20231120T224500Z
DTEND:20231120T234500Z
END:VEVENT
END:VCALENDAR
