BEGIN:VCALENDAR
VERSION:2.0
PRODID:SchoolNow
CALSCALE:GREGORIAN
BEGIN:VEVENT
UID:e45b27ee-9065-11ee-9b5e-0ac57fbb9bed
DTSTAMP:20231201T162346Z
SUMMARY:School Committee Executive Session: Union A Negotiations - Hybrid M
 eeting
URL;VALUE=URI:https://www.norwood.k12.ma.us/sc/calendar/4977902/school-comm
 ittee-executive-session-union-a-negotiations-clone-clone
DTSTART:20231212T210000Z
DTEND:20231212T220000Z
END:VEVENT
END:VCALENDAR
