BEGIN:VCALENDAR
VERSION:2.0
PRODID:SchoolNow
CALSCALE:GREGORIAN
BEGIN:VEVENT
UID:077f930e-9066-11ee-b58e-0a58a9feac02
DTSTAMP:20231201T162358Z
SUMMARY:School Committee Executive Session: Union A Negotiations - Hybrid M
 eeting
URL;VALUE=URI:https://www.norwood.k12.ma.us/sc/calendar/4977904/school-comm
 ittee-executive-session-union-a-negotiations-clone-clone-clone
DTSTART:20231219T210000Z
DTEND:20231219T220000Z
END:VEVENT
END:VCALENDAR
