BEGIN:VCALENDAR
VERSION:2.0
PRODID:SchoolNow
CALSCALE:GREGORIAN
BEGIN:VEVENT
UID:12f8004a-9066-11ee-9c40-0a01a1250a5d
DTSTAMP:20231212T133054Z
SUMMARY:School Committee Executive Session: Union A Negotiations - Hybrid M
 eeting
URL;VALUE=URI:https://www.norwood.k12.ma.us/sc/calendar/4977905/school-comm
 ittee-executive-session-union-a-negotiations-clone-clone-clone-clone
DTSTART:20240116T210000Z
DTEND:20240116T220000Z
END:VEVENT
END:VCALENDAR
