BEGIN:VCALENDAR
VERSION:2.0
PRODID:SchoolNow
CALSCALE:GREGORIAN
BEGIN:VEVENT
UID:3f863ec0-906a-11ee-8e3c-0a58a9feac02
DTSTAMP:20231201T165410Z
SUMMARY:Superintendent Search Committee Orientation Workshop
URL;VALUE=URI:https://www.norwood.k12.ma.us/sc/calendar/4977917/superintend
 ent-search-committee-orientation-workshop
DTSTART:20231204T230000Z
DTEND:20231205T010000Z
END:VEVENT
END:VCALENDAR
