BEGIN:VCALENDAR
VERSION:2.0
PRODID:SchoolNow
CALSCALE:GREGORIAN
BEGIN:VEVENT
UID:cf9af1d4-ab01-11ee-aa13-0a58a9feac02
DTSTAMP:20240104T130436Z
SUMMARY:School Committee Middle School Building Committee Meeting at Savage
  Center
URL;VALUE=URI:https://www.norwood.k12.ma.us/sc/calendar/5102519/school-comm
 ittee-middle-school-building-committee-meeting-at-savage-center
DTSTART:20240311T203000Z
DTEND:20240311T213000Z
END:VEVENT
END:VCALENDAR
