BEGIN:VCALENDAR
VERSION:2.0
PRODID:SchoolNow
CALSCALE:GREGORIAN
BEGIN:VEVENT
UID:f17bd7a0-ab01-11ee-9734-0a58a9feac02
DTSTAMP:20240104T130532Z
SUMMARY:School Committee Middle School Building Committee Meeting at Savage
  Center
URL;VALUE=URI:https://www.norwood.k12.ma.us/sc/calendar/5102523/school-comm
 ittee-middle-school-building-committee-meeting-at-savage-center
DTSTART:20240513T200000Z
DTEND:20240513T210000Z
END:VEVENT
END:VCALENDAR
