BEGIN:VCALENDAR
VERSION:2.0
PRODID:SchoolNow
CALSCALE:GREGORIAN
BEGIN:VEVENT
UID:0e9b8db2-ab02-11ee-808b-0a58a9feac02
DTSTAMP:20240104T130621Z
SUMMARY:School Committee Middle School Building Committee Meeting at Savage
  Center
URL;VALUE=URI:https://www.norwood.k12.ma.us/sc/calendar/5102530/school-comm
 ittee-middle-school-building-committee-meeting-at-savage-center
DTSTART:20240610T203000Z
DTEND:20240610T213000Z
END:VEVENT
END:VCALENDAR
