BEGIN:VCALENDAR
VERSION:2.0
PRODID:SchoolNow
CALSCALE:GREGORIAN
BEGIN:VEVENT
UID:1e7ccdc4-b48d-11ee-abcd-0a9bc4b6cf4b
DTSTAMP:20240116T163428Z
SUMMARY:School Committee Meeting - Budget Workshop - Hybrid Meeting/In Pers
 on at Savage Center - see Schedule page for details
URL;VALUE=URI:https://www.norwood.k12.ma.us/sc/calendar/5163280/school-comm
 ittee-meeting-budget-workshop-hybrid-meeting-in-person-at-savage-center-se
 e-schedule-page-for-details
DTSTART:20240122T210000Z
DTEND:20240122T223000Z
END:VEVENT
END:VCALENDAR
