BEGIN:VCALENDAR
VERSION:2.0
PRODID:SchoolNow
CALSCALE:GREGORIAN
BEGIN:VEVENT
UID:5532765e-b6ca-11ee-986b-0270a20961bf
DTSTAMP:20240119T125742Z
SUMMARY:School Committee - Executive Session - REMOTE MEETING
URL;VALUE=URI:https://www.norwood.k12.ma.us/sc/calendar/5178230/school-comm
 ittee-executive-session-remote-meeting
DTSTART:20240123T190000Z
DTEND:20240123T200000Z
END:VEVENT
END:VCALENDAR
