BEGIN:VCALENDAR
VERSION:2.0
PRODID:SchoolNow
CALSCALE:GREGORIAN
BEGIN:VEVENT
UID:8dab58cc-bebb-11ee-b7c6-0a58a9feac02
DTSTAMP:20240129T153204Z
SUMMARY:School Committee - Emergency Meeting - REMOTE MEETING ONLINE
URL;VALUE=URI:https://www.norwood.k12.ma.us/sc/calendar/5225643/school-comm
 ittee-emergency-meeting-remote-meeting-online
DTSTART:20240130T021500Z
DTEND:20240130T031500Z
END:VEVENT
END:VCALENDAR
